BEGIN:VCALENDAR
VERSION:2.0
PRODID:-//ACTA Group - ECPv6.13.0//NONSGML v1.0//EN
CALSCALE:GREGORIAN
METHOD:PUBLISH
X-ORIGINAL-URL:https://actagroup.com.au
X-WR-CALDESC:Events for ACTA Group
REFRESH-INTERVAL;VALUE=DURATION:PT1H
X-Robots-Tag:noindex
X-PUBLISHED-TTL:PT1H
BEGIN:VTIMEZONE
TZID:Australia/Brisbane
BEGIN:STANDARD
TZOFFSETFROM:+1000
TZOFFSETTO:+1000
TZNAME:AEST
DTSTART:20260101T000000
END:STANDARD
END:VTIMEZONE
BEGIN:VEVENT
DTSTART;TZID=Australia/Brisbane:20260518T090000
DTEND;TZID=Australia/Brisbane:20260518T140000
DTSTAMP:20260423T162438
CREATED:20260226T121724Z
LAST-MODIFIED:20260423T044909Z
UID:38852-1779094800-1779112800@actagroup.com.au
SUMMARY:Gold Coast - WHS White Card (QLD)
DESCRIPTION:Gold Coast - WHS White Card (QLD) \nWCQLD-GC\n\nEnquire \n\nUpcoming Workshops\nThere are no available Upcoming Courses. You can enquire using the button below
URL:https://actagroup.com.au/events/gold-coast-whs-white-card-qld/
LOCATION:4/19 Central Drive\, Burleigh Heads QLD 4220\, 4/19 Central Drive\, Burleigh Heads QLD 4220\, Australia
CATEGORIES:Gold Coast,White Card,Workshop
END:VEVENT
BEGIN:VEVENT
DTSTART;TZID=Australia/Brisbane:20260518T160000
DTEND;TZID=Australia/Brisbane:20260520T210000
DTSTAMP:20260423T162438
CREATED:20260226T121120Z
LAST-MODIFIED:20260423T044505Z
UID:38756-1779120000-1779310800@actagroup.com.au
SUMMARY:Licence to operate a boom-type elevating work platform (11 meters and above)
DESCRIPTION:Licence to operate a boom-type elevating work platform (11 meters and above) \nGCEWP11 \n\nEnquire \n\nUpcoming Workshops\nThere are no available Upcoming Courses. You can enquire using the button below
URL:https://actagroup.com.au/events/licence-to-operate-a-boom-type-elevating-work-platform-11-meters-and-above/
LOCATION:4/19 Central Drive\, Burleigh Heads QLD 4220\, 4/19 Central Drive\, Burleigh Heads QLD 4220\, Australia
CATEGORIES:Gold Coast,High Risk,Workshop
END:VEVENT
BEGIN:VEVENT
DTSTART;TZID=Australia/Brisbane:20260520T080000
DTEND;TZID=Australia/Brisbane:20260522T160000
DTSTAMP:20260423T162438
CREATED:20260226T121123Z
LAST-MODIFIED:20260423T044509Z
UID:38760-1779264000-1779465600@actagroup.com.au
SUMMARY:Gold Coast - Licence to operate a forklift truck
DESCRIPTION:Gold Coast - Licence to operate a forklift truck \nLFGC\n\nEnquire \n\nUpcoming Workshops\nThere are no available Upcoming Courses. You can enquire using the button below
URL:https://actagroup.com.au/events/gold-coast-licence-to-operate-a-forklift-truck-2/
LOCATION:4/19 Central Drive\, Burleigh Heads QLD 4220\, 4/19 Central Drive\, Burleigh Heads QLD 4220\, Australia
CATEGORIES:Gold Coast,High Risk,Workshop
END:VEVENT
BEGIN:VEVENT
DTSTART;TZID=Australia/Brisbane:20260521T074500
DTEND;TZID=Australia/Brisbane:20260521T120000
DTSTAMP:20260423T162438
CREATED:20260226T121238Z
LAST-MODIFIED:20260423T044515Z
UID:38782-1779349500-1779364800@actagroup.com.au
SUMMARY:Gold Coast UETDREL006 - Work safely in the vicinity of live electrical apparatus as a non-electrical worker
DESCRIPTION:Gold Coast UETDREL006 - Work safely in the vicinity of live electrical apparatus as a non-electrical worker \nELECAPP-GC\n\nEnquire \n\nUpcoming Workshops\nThere are no available Upcoming Courses. You can enquire using the button below
URL:https://actagroup.com.au/events/gold-coast-uetdrel006-work-safely-in-the-vicinity-of-live-electrical-apparatus-as-a-non-electrical-worker/
LOCATION:4/19 Central Drive\, Burleigh Heads QLD 4220\, 4/19 Central Drive\, Burleigh Heads QLD 4220\, Australia
CATEGORIES:Gold Coast,Workshop
END:VEVENT
BEGIN:VEVENT
DTSTART;TZID=Australia/Brisbane:20260521T080000
DTEND;TZID=Australia/Brisbane:20260522T160000
DTSTAMP:20260423T162438
CREATED:20260226T121620Z
LAST-MODIFIED:20260423T044807Z
UID:38846-1779350400-1779465600@actagroup.com.au
SUMMARY:Gold Coast - Standard 11 - Generic Surface Induction
DESCRIPTION:Gold Coast - Standard 11 - Generic Surface Induction \nS11-GC\n\nEnquire \n\nUpcoming Workshops\nThere are no available Upcoming Courses. You can enquire using the button below
URL:https://actagroup.com.au/events/gold-coast-standard-11-generic-surface-induction/
LOCATION:4/19 Central Drive\, Burleigh Heads QLD 4220\, 4/19 Central Drive\, Burleigh Heads QLD 4220\, Australia
CATEGORIES:Gold Coast,Workshop
END:VEVENT
BEGIN:VEVENT
DTSTART;TZID=Australia/Brisbane:20260521T123000
DTEND;TZID=Australia/Brisbane:20260521T163000
DTSTAMP:20260423T162439
CREATED:20260226T121355Z
LAST-MODIFIED:20260423T044623Z
UID:38808-1779366600-1779381000@actagroup.com.au
SUMMARY:Gold Coast - Work as a safety observer/spotter
DESCRIPTION:Gold Coast - Work as a safety observer/spotter \nSPOT-GC\n\nEnquire \n\nUpcoming Workshops\nThere are no available Upcoming Courses. You can enquire using the button below
URL:https://actagroup.com.au/events/gold-coast-work-as-a-safety-observer-spotter/
LOCATION:4/19 Central Drive\, Burleigh Heads QLD 4220\, 4/19 Central Drive\, Burleigh Heads QLD 4220\, Australia
CATEGORIES:Gold Coast,Workshop
END:VEVENT
BEGIN:VEVENT
DTSTART;TZID=Australia/Brisbane:20260525T080000
DTEND;TZID=Australia/Brisbane:20260528T160000
DTSTAMP:20260423T162439
CREATED:20260226T121117Z
LAST-MODIFIED:20260423T044502Z
UID:38752-1779696000-1779984000@actagroup.com.au
SUMMARY:Licence to erect\, alter and dismantle scaffolding basic level
DESCRIPTION:Licence to erect\, alter and dismantle scaffolding basic level \nBASICSCAFF\n\nEnquire \n\nUpcoming Workshops\nThere are no available Upcoming Courses. You can enquire using the button below
URL:https://actagroup.com.au/events/licence-to-erect-alter-and-dismantle-scaffolding-basic-level/
LOCATION:4/19 Central Drive\, Burleigh Heads QLD 4220\, 4/19 Central Drive\, Burleigh Heads QLD 4220\, Australia
CATEGORIES:Gold Coast,High Risk,Workshop
END:VEVENT
BEGIN:VEVENT
DTSTART;TZID=Australia/Brisbane:20260527T080000
DTEND;TZID=Australia/Brisbane:20260527T160000
DTSTAMP:20260423T162439
CREATED:20260226T121353Z
LAST-MODIFIED:20260423T044621Z
UID:38805-1779868800-1779897600@actagroup.com.au
SUMMARY:Gold Coast - Truck/Trailer Mounted Attenuator (TMA)
DESCRIPTION:Gold Coast - Truck/Trailer Mounted Attenuator (TMA) \nTMA-GC\n\nEnquire \n\nUpcoming Workshops\nThere are no available Upcoming Courses. You can enquire using the button below
URL:https://actagroup.com.au/events/gold-coast-truck-trailer-mounted-attenuator-tma/
LOCATION:4/19 Central Drive\, Burleigh Heads QLD 4220\, 4/19 Central Drive\, Burleigh Heads QLD 4220\, Australia
CATEGORIES:Gold Coast,Workshop
END:VEVENT
END:VCALENDAR