BEGIN:VCALENDAR
VERSION:2.0
PRODID:-//ACTA Group - ECPv6.13.0//NONSGML v1.0//EN
CALSCALE:GREGORIAN
METHOD:PUBLISH
X-ORIGINAL-URL:https://actagroup.com.au
X-WR-CALDESC:Events for ACTA Group
REFRESH-INTERVAL;VALUE=DURATION:PT1H
X-Robots-Tag:noindex
X-PUBLISHED-TTL:PT1H
BEGIN:VTIMEZONE
TZID:Australia/Brisbane
BEGIN:STANDARD
TZOFFSETFROM:+1000
TZOFFSETTO:+1000
TZNAME:AEST
DTSTART:20260101T000000
END:STANDARD
END:VTIMEZONE
BEGIN:VEVENT
DTSTART;TZID=Australia/Brisbane:20260615T080000
DTEND;TZID=Australia/Brisbane:20260615T160000
DTSTAMP:20260423T154718
CREATED:20260423T044624Z
LAST-MODIFIED:20260423T044624Z
UID:39101-1781510400-1781539200@actagroup.com.au
SUMMARY:Gold Coast - Traffic Controller TC Refresher (QLD)
DESCRIPTION:Gold Coast - Traffic TC Refresher (QLD) \nTC Refresher-GC\n\nEnquire \n\nUpcoming Workshops\nThere are no available Upcoming Courses. You can enquire using the button below
URL:https://actagroup.com.au/events/gold-coast-traffic-controller-tc-refresher-qld-9/
LOCATION:4/19 Central Drive\, Burleigh Heads QLD 4220\, 4/19 Central Drive\, Burleigh Heads QLD 4220\, Australia
CATEGORIES:Workshop
END:VEVENT
BEGIN:VEVENT
DTSTART;TZID=Australia/Brisbane:20260615T080000
DTEND;TZID=Australia/Brisbane:20260615T160000
DTSTAMP:20260423T154719
CREATED:20260423T044804Z
LAST-MODIFIED:20260423T044804Z
UID:39114-1781510400-1781539200@actagroup.com.au
SUMMARY:Gold Coast - Traffic Controller TC (QLD)
DESCRIPTION:Gold Coast - Traffic Controller TC (QLD) \nQLDTC-GC\n\nEnquire \n\nUpcoming Workshops\n\n\nName\nDate\nTime\nLocation\nAvailable Spaces\nCost\n\n\n\n\n\n\nGold Coast - Traffic Controller TC (QLD)\n1 June 2026\n08:00 am - 04:00 pm\n4/19 Central Drive\, Burleigh Heads QLD 4220\n2\n$499.00\nEnrol
URL:https://actagroup.com.au/events/gold-coast-traffic-controller-tc-qld-9/
LOCATION:4/19 Central Drive\, Burleigh Heads QLD 4220\, 4/19 Central Drive\, Burleigh Heads QLD 4220\, Australia
CATEGORIES:Workshop
END:VEVENT
BEGIN:VEVENT
DTSTART;TZID=Australia/Brisbane:20260615T080000
DTEND;TZID=Australia/Brisbane:20260616T160000
DTSTAMP:20260423T154719
CREATED:20260423T044756Z
LAST-MODIFIED:20260423T054510Z
UID:39107-1781510400-1781625600@actagroup.com.au
SUMMARY:Gold Coast - Traffic combined TC & TMI (QLD)
DESCRIPTION:Gold Coast - Traffic combined TC & TMI (QLD) \nTC/TMI-GC\n\nEnquire \n\nUpcoming Workshops\nThere are no available Upcoming Courses. You can enquire using the button below
URL:https://actagroup.com.au/events/gold-coast-traffic-combined-tc-tmi-qld-12/
LOCATION:4/19 Central Drive\, Burleigh Heads QLD 4220\, 4/19 Central Drive\, Burleigh Heads QLD 4220\, Australia
CATEGORIES:Workshop
END:VEVENT
END:VCALENDAR