BEGIN:VCALENDAR
VERSION:2.0
PRODID:-//ACTA Group - ECPv6.13.0//NONSGML v1.0//EN
CALSCALE:GREGORIAN
METHOD:PUBLISH
X-WR-CALNAME:ACTA Group
X-ORIGINAL-URL:https://actagroup.com.au
X-WR-CALDESC:Events for ACTA Group
REFRESH-INTERVAL;VALUE=DURATION:PT1H
X-Robots-Tag:noindex
X-PUBLISHED-TTL:PT1H
BEGIN:VTIMEZONE
TZID:Australia/Brisbane
BEGIN:STANDARD
TZOFFSETFROM:+1000
TZOFFSETTO:+1000
TZNAME:AEST
DTSTART:20260101T000000
END:STANDARD
END:VTIMEZONE
BEGIN:VEVENT
DTSTART;VALUE=DATE:20260401
DTEND;VALUE=DATE:20270502
DTSTAMP:20260424T191843
CREATED:20260331T232118Z
LAST-MODIFIED:20260331T232118Z
UID:39022-1775001600-1809215999@actagroup.com.au
SUMMARY:Work safely at heights - ONLINE REFRESHER 2026
DESCRIPTION:Work safely at heights Refresher\nRIIWHS204E\n\n\nUPCOMING COURSE DATES\nThere are no available Upcoming Courses. You can enquire using the button below \n  \n  \nEnquire
URL:https://actagroup.com.au/events/work-safely-at-heights-online-refresher-2026/
LOCATION:Burleigh Heads\, ACTA Group 4/19 Central Drive\, Burleigh Heads\, QLD\, 4220\, Australia
CATEGORIES:Program
END:VEVENT
BEGIN:VEVENT
DTSTART;TZID=Australia/Brisbane:20260708T080000
DTEND;TZID=Australia/Brisbane:20260710T160000
DTSTAMP:20260424T191844
CREATED:20260424T044501Z
LAST-MODIFIED:20260424T044501Z
UID:39142-1783497600-1783699200@actagroup.com.au
SUMMARY:Gold Coast - Licence to operate a forklift truck
DESCRIPTION:Gold Coast - Licence to operate a forklift truck \nLFGC\n\nEnquire \n\nUpcoming Workshops\n\n\nName\nDate\nTime\nLocation\nAvailable Spaces\nCost\n\n\n\n\n\n\nGold Coast - Licence to operate a forklift truck\n6 - 8 July 2026\n03:00 pm - 09:00 pm\n4/19 Central Drive\, Burleigh Heads QLD 4220\n8\n$550.00\nEnrol
URL:https://actagroup.com.au/events/gold-coast-licence-to-operate-a-forklift-truck-7/
LOCATION:4/19 Central Drive\, Burleigh Heads QLD 4220\, 4/19 Central Drive\, Burleigh Heads QLD 4220\, Australia
CATEGORIES:Workshop
END:VEVENT
BEGIN:VEVENT
DTSTART;TZID=Australia/Brisbane:20260710T080000
DTEND;TZID=Australia/Brisbane:20260712T160000
DTSTAMP:20260424T191844
CREATED:20260423T234505Z
LAST-MODIFIED:20260423T234505Z
UID:39128-1783670400-1783872000@actagroup.com.au
SUMMARY:Gold Coast - Licence to operate a forklift truck
DESCRIPTION:Gold Coast - Licence to operate a forklift truck \nLFGC\n\nEnquire \n\nUpcoming Workshops\n\n\nName\nDate\nTime\nLocation\nAvailable Spaces\nCost\n\n\n\n\n\n\nGold Coast - Licence to operate a forklift truck\n6 - 8 July 2026\n03:00 pm - 09:00 pm\n4/19 Central Drive\, Burleigh Heads QLD 4220\n8\n$550.00\nEnrol
URL:https://actagroup.com.au/events/gold-coast-licence-to-operate-a-forklift-truck/
LOCATION:4/19 Central Drive\, Burleigh Heads QLD 4220\, 4/19 Central Drive\, Burleigh Heads QLD 4220\, Australia
CATEGORIES:Workshop
END:VEVENT
BEGIN:VEVENT
DTSTART;TZID=Australia/Brisbane:20260711T080000
DTEND;TZID=Australia/Brisbane:20260712T160000
DTSTAMP:20260424T191844
CREATED:20260423T044626Z
LAST-MODIFIED:20260424T084511Z
UID:39103-1783756800-1783872000@actagroup.com.au
SUMMARY:Gold Coast - Traffic combined TC & TMI (QLD)
DESCRIPTION:Gold Coast - Traffic combined TC & TMI (QLD) \nTC/TMI-GC\n\nEnquire \n\nUpcoming Workshops\nThere are no available Upcoming Courses. You can enquire using the button below
URL:https://actagroup.com.au/events/gold-coast-traffic-combined-tc-tmi-qld-4/
LOCATION:4/19 Central Drive\, Burleigh Heads QLD 4220\, 4/19 Central Drive\, Burleigh Heads QLD 4220\, Australia
CATEGORIES:Workshop
END:VEVENT
BEGIN:VEVENT
DTSTART;TZID=Australia/Brisbane:20260713T080000
DTEND;TZID=Australia/Brisbane:20260714T160000
DTSTAMP:20260424T191844
CREATED:20260423T044755Z
LAST-MODIFIED:20260424T084512Z
UID:39105-1783929600-1784044800@actagroup.com.au
SUMMARY:Gold Coast - Traffic combined TC & TMI (QLD)
DESCRIPTION:Gold Coast - Traffic combined TC & TMI (QLD) \nTC/TMI-GC\n\nEnquire \n\nUpcoming Workshops\nThere are no available Upcoming Courses. You can enquire using the button below
URL:https://actagroup.com.au/events/gold-coast-traffic-combined-tc-tmi-qld-10/
LOCATION:4/19 Central Drive\, Burleigh Heads QLD 4220\, 4/19 Central Drive\, Burleigh Heads QLD 4220\, Australia
CATEGORIES:Workshop
END:VEVENT
BEGIN:VEVENT
DTSTART;TZID=Australia/Brisbane:20260713T080000
DTEND;TZID=Australia/Brisbane:20260717T160000
DTSTAMP:20260424T191844
CREATED:20260424T044500Z
LAST-MODIFIED:20260424T044500Z
UID:39141-1783929600-1784304000@actagroup.com.au
SUMMARY:Licence to erect\, alter and dismantle scaffolding basic level
DESCRIPTION:Licence to erect\, alter and dismantle scaffolding basic level \nBASICSCAFF\n\nEnquire \n\nUpcoming Workshops\nThere are no available Upcoming Courses. You can enquire using the button below
URL:https://actagroup.com.au/events/licence-to-erect-alter-and-dismantle-scaffolding-basic-level-3/
LOCATION:4/19 Central Drive\, Burleigh Heads QLD 4220\, 4/19 Central Drive\, Burleigh Heads QLD 4220\, Australia
CATEGORIES:Workshop
END:VEVENT
END:VCALENDAR